BEGIN:VCALENDAR
VERSION:2.0
PRODID:-//YingYingTravels - ECPv5.0.2.1//NONSGML v1.0//EN
CALSCALE:GREGORIAN
METHOD:PUBLISH
X-WR-CALNAME:YingYingTravels
X-ORIGINAL-URL:http://yingyingtravels.com
X-WR-CALDESC:Events for YingYingTravels
BEGIN:VTIMEZONE
TZID:Europe/Paris
BEGIN:DAYLIGHT
TZOFFSETFROM:+0100
TZOFFSETTO:+0200
TZNAME:CEST
DTSTART:20250330T010000
END:DAYLIGHT
BEGIN:STANDARD
TZOFFSETFROM:+0200
TZOFFSETTO:+0100
TZNAME:CET
DTSTART:20251026T010000
END:STANDARD
END:VTIMEZONE
BEGIN:VEVENT
DTSTART;TZID=Europe/Paris:20251016T150000
DTEND;TZID=Europe/Paris:20251031T100000
DTSTAMP:20260421T190716
CREATED:20250815T234240Z
LAST-MODIFIED:20250815T234240Z
UID:846-1760626800-1761904800@yingyingtravels.com
SUMMARY:Scarlet's Haunted Halloween Soirée
DESCRIPTION:Scarlet’s Haunted Halloween Soirée: \n\nVirgin Voyages Scarlet Lady\nOctober 16 to 31\, 2025\n16-day\, 15-night Voyage\nBarcelona\, Spain to Palma de Mallorca\, Spain to Casablanca\, Morocco to Funchal\, Madeira\, Portugal to Santa Cruz de Tenerife\, Spain to Miami\, Florida\nAdults (18+) Only\nSingles\, Couples\, Triads\, group of friends welcome!\n\n \nClick here to book your cabin!\n
URL:http://yingyingtravels.com/event/shhs2026/
LOCATION:Virgin Voyages
CATEGORIES:Adventure
END:VEVENT
END:VCALENDAR